BEGIN:VCALENDAR
VERSION:2.0
PRODID:-//Mairie de Monteaux - ECPv4.3.3//NONSGML v1.0//EN
CALSCALE:GREGORIAN
METHOD:PUBLISH
X-WR-CALNAME:Mairie de Monteaux
X-ORIGINAL-URL:https://monteaux.fr
X-WR-CALDESC:Events for Mairie de Monteaux
BEGIN:VEVENT
DTSTART;VALUE=DATE:20180112
DTEND;VALUE=DATE:20180112
DTSTAMP:20260423T075019
CREATED:20171216T095908Z
LAST-MODIFIED:20171227T185048Z
UID:1694-1515715200-1515801599@monteaux.fr
SUMMARY:VOEUX DU MAIRE - 18h30 - Salle associative
DESCRIPTION:
URL:https://monteaux.fr/evenement/voeux-du-maire-2/
END:VEVENT
END:VCALENDAR