BEGIN:VCALENDAR
VERSION:2.0
PRODID:-//Mairie de Monteaux - ECPv4.3.3//NONSGML v1.0//EN
CALSCALE:GREGORIAN
METHOD:PUBLISH
X-WR-CALNAME:Mairie de Monteaux
X-ORIGINAL-URL:https://monteaux.fr
X-WR-CALDESC:Events for Mairie de Monteaux
BEGIN:VEVENT
DTSTART;VALUE=DATE:20180208
DTEND;VALUE=DATE:20180208
DTSTAMP:20260421T122208
CREATED:20180207T204918Z
LAST-MODIFIED:20180207T204918Z
UID:1756-1518048000-1518134399@monteaux.fr
SUMMARY:Conseil Municipal à 19h
DESCRIPTION:
URL:https://monteaux.fr/evenement/conseil-municipal-a-19h/
END:VEVENT
END:VCALENDAR