BEGIN:VCALENDAR
VERSION:2.0
PRODID:-//Mairie de Monteaux - ECPv4.3.3//NONSGML v1.0//EN
CALSCALE:GREGORIAN
METHOD:PUBLISH
X-WR-CALNAME:Mairie de Monteaux
X-ORIGINAL-URL:https://monteaux.fr
X-WR-CALDESC:Events for Mairie de Monteaux
BEGIN:VEVENT
DTSTART;TZID=UTC+1:20190330T080000
DTEND;TZID=UTC+1:20190412T180000
DTSTAMP:20260421T143143
CREATED:20190325T141350Z
LAST-MODIFIED:20190325T142010Z
UID:2068-1553932800-1555092000@monteaux.fr
SUMMARY:EXPOSITION Loir & Cher 1900
DESCRIPTION:Samedi 30 mars 2019  exposition "La vallée de la Cisse en 1900"\, vernissage à 17 heures salle de Rostaing à Onzain.\n\nCette exposition organisée par le département du Loir & Cher du 30 mars au dimanche 7 avril.\n\n\n\nTrois panneaux présentant les habitants de MONTEAUX  vers 1900 seront présentés au public:\n\n- MONTEAUX le village et ses habitants en 1900\,\n\n- MONTEAUX les activités ordinaires en 1900\,\n\n- MONTEAUX scènes de vie tranquille en 1900
URL:https://monteaux.fr/evenement/exposition-loir-cher-1900/
END:VEVENT
BEGIN:VEVENT
DTSTART;TZID=UTC+1:20190330T083000
DTEND;TZID=UTC+1:20190330T123000
DTSTAMP:20260421T143143
CREATED:20190213T234948Z
LAST-MODIFIED:20190214T000039Z
UID:2012-1553934600-1553949000@monteaux.fr
SUMMARY:Vente aux particuliers à Valcompost
DESCRIPTION:
URL:https://monteaux.fr/evenement/vente-aux-particulier-a-valcompost/
END:VEVENT
END:VCALENDAR