BEGIN:VCALENDAR
VERSION:2.0
PRODID:-//Mairie de Monteaux - ECPv4.3.3//NONSGML v1.0//EN
CALSCALE:GREGORIAN
METHOD:PUBLISH
X-WR-CALNAME:Mairie de Monteaux
X-ORIGINAL-URL:https://monteaux.fr
X-WR-CALDESC:Events for Mairie de Monteaux
BEGIN:VEVENT
DTSTART;VALUE=DATE:20190418
DTEND;VALUE=DATE:20190418
DTSTAMP:20260420T074109
CREATED:20190325T151825Z
LAST-MODIFIED:20190325T151825Z
UID:2077-1555545600-1555631999@monteaux.fr
SUMMARY:TOUR du Loir&Cher 2019 à Monteaux
DESCRIPTION: \n\n\n\nCliquer pour voir les HORAIRES DE PASSAGE à Monteaux
URL:https://monteaux.fr/evenement/tour-du-loircher-2019-a-monteaux/
END:VEVENT
END:VCALENDAR