BEGIN:VCALENDAR
VERSION:2.0
PRODID:-//Mairie de Monteaux - ECPv4.3.3//NONSGML v1.0//EN
CALSCALE:GREGORIAN
METHOD:PUBLISH
X-WR-CALNAME:Mairie de Monteaux
X-ORIGINAL-URL:https://monteaux.fr
X-WR-CALDESC:Events for Mairie de Monteaux
BEGIN:VEVENT
DTSTART;VALUE=DATE:20210702
DTEND;VALUE=DATE:20210702
DTSTAMP:20260421T084514
CREATED:20210619T001830Z
LAST-MODIFIED:20210619T001830Z
UID:3088-1625184000-1625270399@monteaux.fr
SUMMARY:Réunion Publique PLUi Salle des fêtes Onzain 18h30 - 20h30
DESCRIPTION:
URL:https://monteaux.fr/evenement/reunion-publique-plui-salle-des-fetes-onzain-18h30-20h30/
END:VEVENT
END:VCALENDAR