BEGIN:VCALENDAR
VERSION:2.0
PRODID:-//Mairie de Monteaux - ECPv4.3.3//NONSGML v1.0//EN
CALSCALE:GREGORIAN
METHOD:PUBLISH
X-WR-CALNAME:Mairie de Monteaux
X-ORIGINAL-URL:https://monteaux.fr
X-WR-CALDESC:Events for Mairie de Monteaux
BEGIN:VEVENT
DTSTART;VALUE=DATE:20220313
DTEND;VALUE=DATE:20220313
DTSTAMP:20260420T124337
CREATED:20220215T142447Z
LAST-MODIFIED:20220215T142523Z
UID:3390-1647129600-1647215999@monteaux.fr
SUMMARY:Carnaval
DESCRIPTION:
URL:https://monteaux.fr/evenement/carnaval-2/
END:VEVENT
END:VCALENDAR