BEGIN:VCALENDAR
VERSION:2.0
PRODID:-//Mairie de Monteaux - ECPv4.3.3//NONSGML v1.0//EN
CALSCALE:GREGORIAN
METHOD:PUBLISH
X-WR-CALNAME:Mairie de Monteaux
X-ORIGINAL-URL:https://monteaux.fr
X-WR-CALDESC:Events for Mairie de Monteaux
BEGIN:VEVENT
DTSTART;VALUE=DATE:20220320
DTEND;VALUE=DATE:20220320
DTSTAMP:20260420T124404
CREATED:20220215T142647Z
LAST-MODIFIED:20220215T142647Z
UID:3395-1647734400-1647820799@monteaux.fr
SUMMARY:Belotte
DESCRIPTION:
URL:https://monteaux.fr/evenement/belotte/
END:VEVENT
END:VCALENDAR