BEGIN:VCALENDAR
VERSION:2.0
PRODID:-//Mairie de Monteaux - ECPv4.3.3//NONSGML v1.0//EN
CALSCALE:GREGORIAN
METHOD:PUBLISH
X-WR-CALNAME:Mairie de Monteaux
X-ORIGINAL-URL:https://monteaux.fr
X-WR-CALDESC:Events for Mairie de Monteaux
BEGIN:VEVENT
DTSTART;TZID=UTC+1:20220711T150000
DTEND;TZID=UTC+1:20220711T180000
DTSTAMP:20260420T061946
CREATED:20220629T150209Z
LAST-MODIFIED:20220629T150209Z
UID:3574-1657551600-1657562400@monteaux.fr
SUMMARY:Ludomobile
DESCRIPTION:
URL:https://monteaux.fr/evenement/ludomobile/
END:VEVENT
END:VCALENDAR