BEGIN:VCALENDAR
VERSION:2.0
PRODID:-//Mairie de Monteaux - ECPv4.3.3//NONSGML v1.0//EN
CALSCALE:GREGORIAN
METHOD:PUBLISH
X-WR-CALNAME:Mairie de Monteaux
X-ORIGINAL-URL:https://monteaux.fr
X-WR-CALDESC:Events for Mairie de Monteaux
BEGIN:VEVENT
DTSTART;TZID=UTC+1:20220727T150000
DTEND;TZID=UTC+1:20220727T180000
DTSTAMP:20260420T061051
CREATED:20220629T150239Z
LAST-MODIFIED:20220714T074702Z
UID:3576-1658934000-1658944800@monteaux.fr
SUMMARY:Bar à sirop
DESCRIPTION:
URL:https://monteaux.fr/evenement/bar-a-sirop/
END:VEVENT
END:VCALENDAR