BEGIN:VCALENDAR
VERSION:2.0
PRODID:-//Mairie de Monteaux - ECPv4.3.3//NONSGML v1.0//EN
CALSCALE:GREGORIAN
METHOD:PUBLISH
X-WR-CALNAME:Mairie de Monteaux
X-ORIGINAL-URL:https://monteaux.fr
X-WR-CALDESC:Events for Mairie de Monteaux
BEGIN:VEVENT
DTSTART;VALUE=DATE:20220904
DTEND;VALUE=DATE:20220904
DTSTAMP:20260420T025932
CREATED:20220215T143045Z
LAST-MODIFIED:20220215T143045Z
UID:3410-1662249600-1662335999@monteaux.fr
SUMMARY:Brocante
DESCRIPTION:
URL:https://monteaux.fr/evenement/brocante/
END:VEVENT
END:VCALENDAR