BEGIN:VCALENDAR
VERSION:2.0
PRODID:-//Mairie de Monteaux - ECPv4.3.3//NONSGML v1.0//EN
CALSCALE:GREGORIAN
METHOD:PUBLISH
X-WR-CALNAME:Mairie de Monteaux
X-ORIGINAL-URL:https://monteaux.fr
X-WR-CALDESC:Events for Mairie de Monteaux
BEGIN:VEVENT
DTSTART;VALUE=DATE:20221002
DTEND;VALUE=DATE:20221002
DTSTAMP:20260420T011700
CREATED:20220215T143142Z
LAST-MODIFIED:20220215T143142Z
UID:3414-1664668800-1664755199@monteaux.fr
SUMMARY:Bourse aux livres
DESCRIPTION:
URL:https://monteaux.fr/evenement/bourse-aux-livres-2/
END:VEVENT
END:VCALENDAR