BEGIN:VCALENDAR
VERSION:2.0
PRODID:-//Mairie de Monteaux - ECPv4.3.3//NONSGML v1.0//EN
CALSCALE:GREGORIAN
METHOD:PUBLISH
X-WR-CALNAME:Mairie de Monteaux
X-ORIGINAL-URL:https://monteaux.fr
X-WR-CALDESC:Events for Mairie de Monteaux
BEGIN:VEVENT
DTSTART;TZID=UTC+1:20260626T180000
DTEND;TZID=UTC+1:20260626T235500
DTSTAMP:20260421T101953
CREATED:20260109T151855Z
LAST-MODIFIED:20260109T151855Z
UID:4970-1782496800-1782518100@monteaux.fr
SUMMARY:Fête de la musique
DESCRIPTION:
URL:https://monteaux.fr/evenement/fete-de-la-musique-6/
END:VEVENT
END:VCALENDAR